BEGIN:VCALENDAR
VERSION:2.0
PRODID:-//www.rekja.ch//NONSGML kigkonsult.se iCalcreator 2.22//
CALSCALE:GREGORIAN
METHOD:PUBLISH
X-WR-TIMEZONE:Europe/Berlin
BEGIN:VEVENT
UID:20260419T144117CEST-4484BDvluZ@www.rekja.ch
DTSTAMP:20260419T124117Z
DESCRIPTION:Klicken Sie auf den folgenden Link\, um weitere Informationen z
 ur Veranstaltung zu erhalten:\nhttp://www.rekja.ch/de/abfallwirtschaft/abf
 allkalender/detail/detail.php?i=
DTSTART;VALUE=DATE:20260421
LOCATION:
SUMMARY:Grüngut
END:VEVENT
END:VCALENDAR
